BEGIN:VCALENDAR
VERSION:2.0
PRODID:-//Overfreunde Hamburg - ECPv6.15.20//NONSGML v1.0//EN
CALSCALE:GREGORIAN
METHOD:PUBLISH
X-WR-CALNAME:Overfreunde Hamburg
X-ORIGINAL-URL:https://www.overfreunde.de
X-WR-CALDESC:Veranstaltungen für Overfreunde Hamburg
REFRESH-INTERVAL;VALUE=DURATION:PT1H
X-Robots-Tag:noindex
X-PUBLISHED-TTL:PT1H
BEGIN:VTIMEZONE
TZID:Europe/Berlin
BEGIN:DAYLIGHT
TZOFFSETFROM:+0100
TZOFFSETTO:+0200
TZNAME:CEST
DTSTART:20250330T010000
END:DAYLIGHT
BEGIN:STANDARD
TZOFFSETFROM:+0200
TZOFFSETTO:+0100
TZNAME:CET
DTSTART:20251026T010000
END:STANDARD
BEGIN:DAYLIGHT
TZOFFSETFROM:+0100
TZOFFSETTO:+0200
TZNAME:CEST
DTSTART:20260329T010000
END:DAYLIGHT
BEGIN:STANDARD
TZOFFSETFROM:+0200
TZOFFSETTO:+0100
TZNAME:CET
DTSTART:20261025T010000
END:STANDARD
BEGIN:DAYLIGHT
TZOFFSETFROM:+0100
TZOFFSETTO:+0200
TZNAME:CEST
DTSTART:20270328T010000
END:DAYLIGHT
BEGIN:STANDARD
TZOFFSETFROM:+0200
TZOFFSETTO:+0100
TZNAME:CET
DTSTART:20271031T010000
END:STANDARD
END:VTIMEZONE
BEGIN:VEVENT
DTSTART;VALUE=DATE:20260425
DTEND;VALUE=DATE:20260427
DTSTAMP:20260425T024059
CREATED:20260326T163435Z
LAST-MODIFIED:20260326T164503Z
UID:5699-1777075200-1777247999@www.overfreunde.de
SUMMARY:Anpaddeln der Hamburger Vereine und Einzelpaddler
DESCRIPTION:Der Hamburger Kanu Verband würde sich freuen die Hamburger Paddler zum Anpaddeln der Hamburger Vereine und Einzelpaddler am 26. April begrüßen zu können. Die Fahrt soll über die Ilau und Ilmenau zum Verbandsheim nach Barum gehen. Die Vorfahrt am Sonnabend ist etwas weiter und führt ab Bleckede über die Elbe\, den Elbe-Seitenkanal und die Neetze nach Barum.\n \nDie Touren sind für sportliche Fahrer:innen gedacht\, die sich bitte eigenständig beim HKV anmelden. Weitere Details dazu findet ihr hier.\nAnmeldeschluss ist der 19. April
URL:https://www.overfreunde.de/termin/anpaddeln-der-hamburger-vereine/
LOCATION:Hamburg
CATEGORIES:Profis,sportliche Fahrer:innen,Wanderfahrt
ATTACH;FMTTYPE=image/jpeg:https://www.overfreunde.de/wp-content/uploads/2022/03/Barumer-See.jpg
END:VEVENT
BEGIN:VEVENT
DTSTART;TZID=Europe/Berlin:20260425T100000
DTEND;TZID=Europe/Berlin:20260425T160000
DTSTAMP:20260425T024059
CREATED:20260114T163058Z
LAST-MODIFIED:20260114T163058Z
UID:5026-1777111200-1777132800@www.overfreunde.de
SUMMARY:Bootshausdienst
DESCRIPTION:Wenn alle mitanpacken\, geht es erstens viel schneller und zweitens macht es mehr Spaß. Deshalb komm gerne zum Bootshausdienst und hilf mit\, das Bootshaus\, die Boote\, die Beete sowie das restliche Material wieder auf Vordermann zu bringen. \nStart ist ab 10.00 Uhr am Bootshaus. \nInfos bei Rollo (1.bootshauswart@overfreunde.de)
URL:https://www.overfreunde.de/termin/bootshausdienst/
LOCATION:Bootshaus der Overfreunde\, Isekai 10\, Hamburg\, Hamburg\, 20249
CATEGORIES:Anfänger:innen,Arbeitseinsatz,Bootshausdienst,Familien mit Kindern,Genießende,Jugendliche,Minis und Youngster,Profis,sportliche Fahrer:innen,Young OH - Junge Erwachsene,Zielgruppe
ATTACH;FMTTYPE=image/jpeg:https://www.overfreunde.de/wp-content/uploads/2021/06/Termin-Bootshaus-16-9.jpg
ORGANIZER;CN="WSV Overfreunde Bootshauswart":MAILTO:1.bootshauswart@overfreunde.de
END:VEVENT
END:VCALENDAR