BEGIN:VCALENDAR
VERSION:2.0
PRODID:-//Overfreunde Hamburg - ECPv6.15.20//NONSGML v1.0//EN
CALSCALE:GREGORIAN
METHOD:PUBLISH
X-ORIGINAL-URL:https://www.overfreunde.de
X-WR-CALDESC:Veranstaltungen für Overfreunde Hamburg
REFRESH-INTERVAL;VALUE=DURATION:PT1H
X-Robots-Tag:noindex
X-PUBLISHED-TTL:PT1H
BEGIN:VTIMEZONE
TZID:Europe/Berlin
BEGIN:DAYLIGHT
TZOFFSETFROM:+0100
TZOFFSETTO:+0200
TZNAME:CEST
DTSTART:20230326T010000
END:DAYLIGHT
BEGIN:STANDARD
TZOFFSETFROM:+0200
TZOFFSETTO:+0100
TZNAME:CET
DTSTART:20231029T010000
END:STANDARD
BEGIN:DAYLIGHT
TZOFFSETFROM:+0100
TZOFFSETTO:+0200
TZNAME:CEST
DTSTART:20240331T010000
END:DAYLIGHT
BEGIN:STANDARD
TZOFFSETFROM:+0200
TZOFFSETTO:+0100
TZNAME:CET
DTSTART:20241027T010000
END:STANDARD
BEGIN:DAYLIGHT
TZOFFSETFROM:+0100
TZOFFSETTO:+0200
TZNAME:CEST
DTSTART:20250330T010000
END:DAYLIGHT
BEGIN:STANDARD
TZOFFSETFROM:+0200
TZOFFSETTO:+0100
TZNAME:CET
DTSTART:20251026T010000
END:STANDARD
END:VTIMEZONE
BEGIN:VEVENT
DTSTART;TZID=Europe/Berlin:20240906T180000
DTEND;TZID=Europe/Berlin:20240906T210000
DTSTAMP:20260425T011309
CREATED:20231126T194442Z
LAST-MODIFIED:20240514T203139Z
UID:3029-1725645600-1725656400@www.overfreunde.de
SUMMARY:Paddeltour mit Kurzvortrag: Fledermäuse am Ufer - bestimmen und beobachten
DESCRIPTION:Kurzvortrag und Exkursion im Kanu ab Bootshaus der Overfreunde \nim Rahmen der Reihe „Ökologie im Paddelsport“\nWenn die Tage kürzer werden\, enden unsere Paddeltouren immer öfter erst bei Dämmerung oder sogar im Dunkeln. Was jetzt noch fliegt\, sind keine Vögel sondern Fledermäuse. Aber welche Fledermaus ist das und wie lebt sie? Wann und wo sehen wir Fledermäuse\, und warum? Und was können wir tun\, damit wir sie nicht stören und uns ihren Lebensraum mit ihnen rücksichtsvoll teilen? Bei einem ca. 20-minütigen Kurzvortrag stellt uns Volker Ziegler vom NABU Hamburg die Fledermausarten vor\, die wir auf der folgenden Paddeltour wahrscheinlich sehen werden\, und gibt uns eine Einführung zu Jagdverhalten und -rufen\, Lebensräumen\, Nahrung und Jahresablauf. \nDie geplante Route führt über den Rondeelteich zum Stadtparksee und zurück. Dauer: ca. 2 bis 2\,5 h mit einigen Beobachtungsstopps mit Erklärungen. \nDie Zielgruppe sind Erwachsene und ältere Jugendliche ohne Vorkenntnisse. Kinder können teilnehmen\, wenn sie sich auf Veranstaltungen für Erwachsene wohl fühlen\, dem Vortrag folgen und bei der Paddeltour ruhig sitzen können. Wir fahren in möglichst wenig und großen Booten mit dem 10er und anderen Kanus. \nDamit wir pünktlich loskommen\, müssen alle Teilnehmenden um 18h vor dem Vortrag bereits fertig angezogen sein und ihre Schwimmwesten und Stechpaddel parat legen. \nVortragender: Volker Ziegler \nKosten: 10\,- €/Person\, Kinder und Jugendliche frei \nAnmeldung ausschließlich über die Online Liste:  https://nuudel.digitalcourage.de/jpgM9USzBT1tVnON \nWeitere Veranstaltungen dieser Reihe findest du hier: Veranstaltungen Ökologie im Paddelsport
URL:https://www.overfreunde.de/termin/paddeltour-mit-kurzvortrag-fledermaeuse-am-ufer-bestimmen-und-beobachten/
LOCATION:Bootshaus der Overfreunde\, Isekai 10\, Hamburg\, Hamburg\, 20249
CATEGORIES:Anfänger:innen,Dia-Abend / Vortragsreihe,Familien mit Kindern,Genießende,Jugendliche,Minis und Youngster,Ökologie im Paddelsport,Profis,sportliche Fahrer:innen,Team-Kanadier,Young OH - Junge Erwachsene
ATTACH;FMTTYPE=image/jpeg:https://www.overfreunde.de/wp-content/uploads/2023/11/cartoon_fledermaus_-_gif_zu_halloween_20130911_2010879265.jpg
ORGANIZER;CN="WSV Overfreunde - %C3%96kologie im Paddelsport":MAILTO:ttbarmbek@posteo.de
END:VEVENT
END:VCALENDAR